BEGIN:VCALENDAR
VERSION:2.0
PRODID:-//ChamberMaster//Event Calendar 2.0//EN
METHOD:PUBLISH
X-PUBLISHED-TTL:P3D
REFRESH-INTERVAL:P3D
CALSCALE:GREGORIAN
BEGIN:VEVENT
DTSTART:20220603T140000Z
DTEND:20220604T200000Z
X-MICROSOFT-CDO-ALLDAYEVENT:FALSE
SUMMARY:International Franchise Expo New York - Free Tickets
DESCRIPTION:International Franchise Expo New York - Free Tickets Thursday June 2\, 2022 from 10:00AM   5:00PM Friday June 3\, 2022 from 10:00AM   5:00PM Saturday June 4\, 2022 from 10:00 AM - 4:00PM (*Safety Precautions in Effect*) GET FREE TICKETS HERE: https://thebizex.net/mfv-international-franchise-expo-new-york-june-2022/ The International Franchise Expo 2022 is the world's leading event where potential franchisees can network and connect with large\, medium-size and emerging franchise brands. The International Franchise Expo brings together attendees\, exhibitors\, expert speakers and sponsors for information sharing\, education\, business development and a bit of fun!   Top Franchise Brands Exhibiting   Comprehensive Educational Program   Small to Midsize Investments Available   Match Your Lifestyle INVITE YOUR FRIENDS & GET FREE TICKETS HERE: https://thebizex.net/mfv-international-franchise-expo-new-york-june-2022/ For More Free Tickets to Franchise Shows Near You\, Please visit: https://thebizex.com/franchise-shows
X-ALT-DESC;FMTTYPE=text/html:International Franchise Expo New York - Free Tickets Thursday June 2\, 2022 from 10:00AM &ndash\; 5:00PM Friday June 3\, 2022 from 10:00AM &ndash\; 5:00PM Saturday June 4\, 2022 from 10:00 AM - 4:00PM (*Safety Precautions in Effect*) GET FREE TICKETS HERE: https://thebizex.net/mfv-international-franchise-expo-new-york-june-2022/ The International Franchise Expo 2022 is the world&#39\;s leading event where potential franchisees can network and connect with large\, medium-size and emerging franchise brands. The International Franchise Expo brings together attendees\, exhibitors\, expert speakers and sponsors for information sharing\, education\, business development and a bit of fun! &gt\; Top Franchise Brands Exhibiting &gt\; Comprehensive Educational Program &gt\; Small to Midsize Investments Available &gt\; Match Your Lifestyle INVITE YOUR FRIENDS &amp\; GET FREE TICKETS HERE: https://thebizex.net/mfv-international-franchise-expo-new-york-june-2022/ For More Free Tickets to Franchise Shows Near You\, Please visit: https://thebizex.com/franchise-shows
LOCATION:Jacob K. Javits Convention Center - HALLS 1B & 1C 429 11th Avenue\, New York\, New York 10018
UID:e.2374.5721
SEQUENCE:3
DTSTAMP:20260420T110943Z
URL:https://business.gardencitychamber.org/events/details/international-franchise-expo-new-york-free-tickets-5721
END:VEVENT

END:VCALENDAR
